BEGIN:VCALENDAR
VERSION:2.0
PRODID:-//Philly Fixers Guild - ECPv6.15.20//NONSGML v1.0//EN
CALSCALE:GREGORIAN
METHOD:PUBLISH
X-ORIGINAL-URL:https://phillyfixersguild.org
X-WR-CALDESC:Events for Philly Fixers Guild
REFRESH-INTERVAL;VALUE=DURATION:PT1H
X-Robots-Tag:noindex
X-PUBLISHED-TTL:PT1H
BEGIN:VTIMEZONE
TZID:America/New_York
BEGIN:DAYLIGHT
TZOFFSETFROM:-0500
TZOFFSETTO:-0400
TZNAME:EDT
DTSTART:20160313T070000
END:DAYLIGHT
BEGIN:STANDARD
TZOFFSETFROM:-0400
TZOFFSETTO:-0500
TZNAME:EST
DTSTART:20161106T060000
END:STANDARD
BEGIN:DAYLIGHT
TZOFFSETFROM:-0500
TZOFFSETTO:-0400
TZNAME:EDT
DTSTART:20170312T070000
END:DAYLIGHT
BEGIN:STANDARD
TZOFFSETFROM:-0400
TZOFFSETTO:-0500
TZNAME:EST
DTSTART:20171105T060000
END:STANDARD
BEGIN:DAYLIGHT
TZOFFSETFROM:-0500
TZOFFSETTO:-0400
TZNAME:EDT
DTSTART:20180311T070000
END:DAYLIGHT
BEGIN:STANDARD
TZOFFSETFROM:-0400
TZOFFSETTO:-0500
TZNAME:EST
DTSTART:20181104T060000
END:STANDARD
END:VTIMEZONE
BEGIN:VEVENT
DTSTART;TZID=America/New_York:20170129T100000
DTEND;TZID=America/New_York:20170129T130000
DTSTAMP:20260424T013208
CREATED:20161213T181842Z
LAST-MODIFIED:20221108T153451Z
UID:642-1485684000-1485694800@phillyfixersguild.org
SUMMARY:Repair Fair #11 - PlayArts in Fishtown
DESCRIPTION:Join us for our 11th Repair Fair event. The public is welcome to bring anything broken (please enter at PlayArts’ rear door on North Lee Street). Our talented Fixers will be there to help teach repair and troubleshooting. Save your possessions from the landfill or replacement!  PlayArts offers child-centered arts and play in a parent-friendly space. Broken toys and kids who like to learn are welcome!
URL:https://phillyfixersguild.org/event/repair-fair-11-playarts-in-fishtown/
LOCATION:PlayArts (Rear entrance on N Lee St)\, 1241 N. Front St.\, Philadelphia\, PA\, 19125\, United States
CATEGORIES:Regular Repair Fair
ATTACH;FMTTYPE=image/jpeg:https://phillyfixersguild.org/wp-content/uploads/2014/09/IMG_2204-e1481653074958.jpg
ORGANIZER;CN="Philly Fixers Guild":MAILTO:admin@phillyfixersguild.org
END:VEVENT
END:VCALENDAR