BEGIN:VCALENDAR
VERSION:2.0
PRODID:-//Philly Fixers Guild - ECPv6.15.20//NONSGML v1.0//EN
CALSCALE:GREGORIAN
METHOD:PUBLISH
X-ORIGINAL-URL:https://phillyfixersguild.org
X-WR-CALDESC:Events for Philly Fixers Guild
REFRESH-INTERVAL;VALUE=DURATION:PT1H
X-Robots-Tag:noindex
X-PUBLISHED-TTL:PT1H
BEGIN:VTIMEZONE
TZID:America/New_York
BEGIN:DAYLIGHT
TZOFFSETFROM:-0500
TZOFFSETTO:-0400
TZNAME:EDT
DTSTART:20160313T070000
END:DAYLIGHT
BEGIN:STANDARD
TZOFFSETFROM:-0400
TZOFFSETTO:-0500
TZNAME:EST
DTSTART:20161106T060000
END:STANDARD
BEGIN:DAYLIGHT
TZOFFSETFROM:-0500
TZOFFSETTO:-0400
TZNAME:EDT
DTSTART:20170312T070000
END:DAYLIGHT
BEGIN:STANDARD
TZOFFSETFROM:-0400
TZOFFSETTO:-0500
TZNAME:EST
DTSTART:20171105T060000
END:STANDARD
BEGIN:DAYLIGHT
TZOFFSETFROM:-0500
TZOFFSETTO:-0400
TZNAME:EDT
DTSTART:20180311T070000
END:DAYLIGHT
BEGIN:STANDARD
TZOFFSETFROM:-0400
TZOFFSETTO:-0500
TZNAME:EST
DTSTART:20181104T060000
END:STANDARD
END:VTIMEZONE
BEGIN:VEVENT
DTSTART;TZID=America/New_York:20170423T100000
DTEND;TZID=America/New_York:20170423T140000
DTSTAMP:20260423T204251
CREATED:20170309T155041Z
LAST-MODIFIED:20221108T153451Z
UID:657-1492941600-1492956000@phillyfixersguild.org
SUMMARY:Repair Fair #12 - Metal Incorporated
DESCRIPTION:Join us at Metal Incorporated’s brand-new Port Richmond location for Repair Fair #12. Bring any of your damaged\, broken\, disassembled\, or confounding possessions. This includes things like clothing\, dull knives\, lawnmowers\, toasters and jewelry. Anything you can carry in is fair game: our talented fixers will help you learn to fix your own stuff!
URL:https://phillyfixersguild.org/event/repair-fair-12-metal-incorporated/
LOCATION:Metal Incorporated\, 2609 E. Cambria St.\, Philadelphia\, PA\, 19134\, United States
CATEGORIES:Regular Repair Fair
ATTACH;FMTTYPE=image/jpeg:https://phillyfixersguild.org/wp-content/uploads/2015/04/20150328_140739-e1490826138215.jpg
ORGANIZER;CN="Philly Fixers Guild":MAILTO:admin@phillyfixersguild.org
END:VEVENT
END:VCALENDAR